BEGIN:VCALENDAR
VERSION:2.0
PRODID:-//RIGHTHERE//CALENDARIZE IT V3.2//EN
BEGIN:VTIMEZONE
TZID:Europe/Berlin
X-MICROSOFT-CDO-TZID:4
BEGIN:STANDARD
DTSTART:20251026T010000
TZOFFSETFROM:+0200
TZOFFSETTO:+0100
TZNAME:CET
END:STANDARD
BEGIN:DAYLIGHT
DTSTART:20260329T010000
TZOFFSETFROM:+0100
TZOFFSETTO:+0200
TZNAME:CEST
END:DAYLIGHT
BEGIN:STANDARD
DTSTART:20261025T010000
TZOFFSETFROM:+0200
TZOFFSETTO:+0100
TZNAME:CET
END:STANDARD
END:VTIMEZONE
BEGIN:VEVENT
UID:2375-events@tmv.or.at
DTSTART;TZID=Europe/Berlin:20190712T193000
DTEND;TZID=Europe/Berlin:20190712T000000
DTSTAMP;TZID=Europe/Berlin:20190710T163227
SUMMARY:ANI: Stammtisch
RRULE:FREQ=WEEKLY;INTERVAL=1;UNTIL=20190906
EXDATE:20190802T173000Z
LOCATION:GH Steneck
END:VEVENT
END:VCALENDAR