BEGIN:VCALENDAR
VERSION:2.0
PRODID:-//RIGHTHERE//CALENDARIZE IT V3.2//EN
BEGIN:VTIMEZONE
TZID:Europe/Berlin
X-MICROSOFT-CDO-TZID:4
BEGIN:STANDARD
DTSTART:20251026T010000
TZOFFSETFROM:+0200
TZOFFSETTO:+0100
TZNAME:CET
END:STANDARD
BEGIN:DAYLIGHT
DTSTART:20260329T010000
TZOFFSETFROM:+0100
TZOFFSETTO:+0200
TZNAME:CEST
END:DAYLIGHT
BEGIN:STANDARD
DTSTART:20261025T010000
TZOFFSETFROM:+0200
TZOFFSETTO:+0100
TZNAME:CET
END:STANDARD
END:VTIMEZONE
BEGIN:VEVENT
UID:4091-events@tmv.or.at
DTSTART;TZID=Europe/Berlin:20230929T190000
DTEND;TZID=Europe/Berlin:20230929T200000
DTSTAMP;TZID=Europe/Berlin:20230920T144803
SUMMARY:ALI – WA: „Der Fall Vals – Kriegsrelikte und deren Risiko in 
 Österreich“
LOCATION:K.T.St.V. Alemannia Innsbruck
END:VEVENT
END:VCALENDAR